BEGIN:VCALENDAR
VERSION:2.0
METHOD:PUBLISH
BEGIN:VEVENT
UID:WILD_APRICOT_EVENT_3203337_SESSION_1
DTSTART:20190315T090000Z
DTEND:20190315T130000Z
SUMMARY:An Educational Evening with Stride Shoes
LOCATION:Manning Community Hall\, Manning WA
DESCRIPTION:http://podiatrywa.com.au/event-3203337\n\n\n  Join us for an evening of drinks\, food\, door prizes & giveaways as we hear about new innovations\, designs and styles from top brands in the footwear industry.Tickets essential.\n  4 CPD points for attending this event\n  \n\n  \n\n
DTSTAMP:20190227T075841Z
END:VEVENT
END:VCALENDAR
