BEGIN:VCALENDAR
VERSION:2.0
METHOD:PUBLISH
BEGIN:VEVENT
UID:WILD_APRICOT_EVENT_3268543_SESSION_1
DTSTART:20190306T103000Z
DTEND:20190306T113000Z
SUMMARY:The 3 keys to helping WEAK ANKLES
LOCATION:Webinar
DESCRIPTION:https://podiatrywa.com.au/event-3268543\n\n\n\n  Want to learn how to confidently and comprehensively assess\, diagnose & treat weak ankles?  Ted Jedynak (the Mobilisation guy) will detail this topic and outline the 3 key steps to helping weak ankles without buying a single piece of new rehabilitation equipment.\n  Register here \n
DTSTAMP:20260424T165120Z
END:VEVENT
END:VCALENDAR
